
BEGIN:VCALENDAR
VERSION:2.0
PRODID:-//Retropoplive - ECPv6.15.20//NONSGML v1.0//EN
CALSCALE:GREGORIAN
METHOD:PUBLISH
X-WR-CALNAME:Retropoplive
X-ORIGINAL-URL:https://www.retropoplive.it
X-WR-CALDESC:Eventi per Retropoplive
REFRESH-INTERVAL;VALUE=DURATION:PT1H
X-Robots-Tag:noindex
X-PUBLISHED-TTL:PT1H
BEGIN:VTIMEZONE
TZID:Europe/Paris
BEGIN:DAYLIGHT
TZOFFSETFROM:+0100
TZOFFSETTO:+0200
TZNAME:CEST
DTSTART:20230326T010000
END:DAYLIGHT
BEGIN:STANDARD
TZOFFSETFROM:+0200
TZOFFSETTO:+0100
TZNAME:CET
DTSTART:20231029T010000
END:STANDARD
BEGIN:DAYLIGHT
TZOFFSETFROM:+0100
TZOFFSETTO:+0200
TZNAME:CEST
DTSTART:20240331T010000
END:DAYLIGHT
BEGIN:STANDARD
TZOFFSETFROM:+0200
TZOFFSETTO:+0100
TZNAME:CET
DTSTART:20241027T010000
END:STANDARD
BEGIN:DAYLIGHT
TZOFFSETFROM:+0100
TZOFFSETTO:+0200
TZNAME:CEST
DTSTART:20250330T010000
END:DAYLIGHT
BEGIN:STANDARD
TZOFFSETFROM:+0200
TZOFFSETTO:+0100
TZNAME:CET
DTSTART:20251026T010000
END:STANDARD
BEGIN:DAYLIGHT
TZOFFSETFROM:+0100
TZOFFSETTO:+0200
TZNAME:CEST
DTSTART:20260329T010000
END:DAYLIGHT
BEGIN:STANDARD
TZOFFSETFROM:+0200
TZOFFSETTO:+0100
TZNAME:CET
DTSTART:20261025T010000
END:STANDARD
END:VTIMEZONE
BEGIN:VTIMEZONE
TZID:UTC
BEGIN:STANDARD
TZOFFSETFROM:+0000
TZOFFSETTO:+0000
TZNAME:UTC
DTSTART:20230101T000000
END:STANDARD
END:VTIMEZONE
BEGIN:VEVENT
DTSTART;TZID=Europe/Paris:20250829T190000
DTEND;TZID=Europe/Paris:20250829T233000
DTSTAMP:20260420T221626
CREATED:20250127T170620Z
LAST-MODIFIED:20250304T153303Z
UID:2019-1756494000-1756510200@www.retropoplive.it
SUMMARY:Franz Ferdinand | acieloaperto festival
DESCRIPTION:Sarà l’unico concerto in Emilia-Romagna della band scozzese e un’occasione speciale per ascoltare di nuovo dal vivo il gruppo\, che torna con un nuovo album a sette anni di distanza dal precedente “Always Ascending” (2018). Il nuovo lavoro si intitola “The Human Fear” (Domino)\, ed è atteso per venerdì 10 gennaio 2025. \nProdotto insieme a Mark Ralph\, che aveva già collaborato con la band per l’album del 2013 “Right Thoughts\, Right Words\, Right Action”\, il disco mostra i Franz Ferdinand in forma\, vivaci e pieni di energia\, che puntano senza esitazioni al lato più pop. Registrate agli AYR Studios in Scozia\, le 11 canzoni di “The Human Fear” fanno tutte riferimento alle paure umane più profonde\, e a come il superamento e l’accettazione di queste guidino e definiscano le nostre vite. \nSin dagli inizi\, quando ancora organizzavano feste illegali in edifici dismessi di Glasgow\, i Franz Ferdinand si sono distinti per una visione fresca\, inarrestabile e orientata al futuro\, con una prospettiva trasgressiva tipica delle scuole d’arte\, ma con un amore per le grandi canzoni. “The Human Fear” continua senza dubbio questa tradizione; diverso ma nuovo\, musicalmente e creativamente è un album desideroso di guardare avanti. \nI Franz Ferdinand firmano per Domino nel maggio 2003 e pubblicano il loro primo singolo\, Darts Of Pleasure\, poco dopo. Il secondo singolo\, Take Me Out\, è esploso sulla scena internazionale\, facendo scoprire la band a livello globale ed è stato un precursore del loro omonimo album di debutto che ha venduto oltre 5 milioni di copie in tutto il mondo. Artisticamente sempre all’avanguardia\, gli album successivi\, You Could Have It So Much Better (2005)\, Tonight: Franz Ferdinand (2009)\, Right Thoughts\, Right Words\, Right Action (2013) e Always Ascending (2018) hanno offerto una nuova interpretazione del modello Franz e li hanno visti collaborare con alcuni dei produttori più all’avanguardia in circolazione\, tra cui Dan Carey\, Joe Goddard e Alexis Taylor degli Hot Chip\, Todd Terje e Philippe Zdar. \nLa loro musica continua a risuonare a livello globale e nel corso di quasi due decenni sono diventati\, commercialmente e criticamente\, una delle più grandi band britanniche del mondo\, vendendo oltre 10 milioni di album\, 2\,5 miliardi di streaming fino ad oggi\, 14 album di platino\, vincendo premi come Brit\, Ivor Novello e Mercury Prize\, con nomination ai Grammy e vendendo 6 milioni di biglietti per i loro spettacolari live in tutto il mondo\, che hanno incluso slot da headliner in festival come Reading & Leeds\, Rock En Seine\, Primavera e All Points East. La compilation di greatest hits Hits To The Head\, pubblicata nel 2022\, è stata un potente promemoria di quanto molte delle loro canzoni siano state universali e amate. I concerti di quel tour nel Regno Unito ha visto il tutto esaurito all’Alexandra Palace di Londra. \nI Franz Ferdinand sono Alex Kapranos (voce / chitarra)\, Audrey Tait (batteria)\, Bob Hardy (basso)\, Dino Bardot (chitarra\, cori) e Julian Corrie (tastiera\, chitarra\, cori). Discografia: Franz Ferdinand (2004)\, You Could Have It So Much Better (2005)\, Tonight: Franz Ferdinand (2009)\, Right Thoughts\, Right Words\, Right Action (2013)\, Always Ascending (2018)\, Hits To The Head (2022).
URL:https://www.retropoplive.it/eventi/franz-ferdinand-acieloaperto-festival/
LOCATION:Villa Torlonia – Parco Poesia Pascoli\, Via Due Martiri\, 2\, San Mauro Pascoli\, Forlì-Cesena\, 47030\, Italia
CATEGORIES:In evidenza,Musica
ATTACH;FMTTYPE=image/jpeg:https://www.retropoplive.it/wp-content/uploads/2025/01/rpl_franz-ferdinand_villa-torlonia_acieloaperto.jpg
ORGANIZER;CN="RetroPop Live":MAILTO:retropoplive@gmail.com
END:VEVENT
BEGIN:VEVENT
DTSTART;TZID=Europe/Paris:20250809T210000
DTEND;TZID=Europe/Paris:20250809T233000
DTSTAMP:20260420T221626
CREATED:20250127T170852Z
LAST-MODIFIED:20250714T160207Z
UID:2023-1754773200-1754782200@www.retropoplive.it
SUMMARY:Fantastic Negrito | Sogliano Sonica festival
DESCRIPTION:Il bluesman Fantastic Negrito torna in Romagna. \nSarà l’occasione per ascoltare dal vivo ‘Son of a Broken Man’\, il nuovo lavoro del musicista anticipato dall’uscita del singolo ‘Undefeated Eyes’\, che vede la partecipazione di Sting. Nel disco Negrito incapsula gli elementi caratterizzanti il suo stile: riff distorti di chitarra\, ballate melodiche ed espressive e colpi di scena che sono diventati il suo marchio di fabbrica. Si tratta del suo lavoro più personale ad oggi; esplora i temi della famiglia e dell’inganno\, e il desiderio umano di nascondere il vero sé\, mentre si immerge in uno dei conflitti più antichi della storia umana\, la lotta tra padre e figlio. \n►RISTORO: è possibile cenare presso il Ristorante Il Galeone\, in piazza Matteotti; prenotazioni al numero 388 1996568. \nL’evento si svolge con il patrocinio e il sostegno del Comune di Sogliano al Rubicone.
URL:https://www.retropoplive.it/eventi/fantastic-negrito-sogliano-sonica-festival/
LOCATION:Piazza Matteotti\, Piazza Matteotti\, Sogliano al Rubicone\, FC\, 24122\, Italia
CATEGORIES:In evidenza,Musica
ATTACH;FMTTYPE=image/jpeg:https://www.retropoplive.it/wp-content/uploads/2025/01/rpl_fantastic-negrito_sogliano-sonica.jpg
ORGANIZER;CN="RetroPop Live":MAILTO:retropoplive@gmail.com
END:VEVENT
BEGIN:VEVENT
DTSTART;TZID=Europe/Paris:20250801T160000
DTEND;TZID=Europe/Paris:20250801T213000
DTSTAMP:20260420T221626
CREATED:20250630T160053Z
LAST-MODIFIED:20250730T152837Z
UID:2172-1754064000-1754083800@www.retropoplive.it
SUMMARY:SOLD OUT | MANU CHAO Ultra Acoustic | acieloaperto festival
DESCRIPTION:I biglietti per il concerto sono esauriti. \nManu Chao è considerato da sempre uno degli artisti più liberi\, non conformi alle regole del mercato\, e allo stesso tempo autentico punto di riferimento del panorama musicale internazionale. Con i Mano Negra prima e da solista poi ha scritto pietre miliari della musica rock\, folk e alternative e ha ispirato milioni di musicisti in tutto il globo\, non ultimo il giovane e talentuoso Alfa\, con cui ha realizzato il singolo “A me mi piace” che è già diventata la hit dell’estate in Italia ed è entrata nelle classifiche dei singoli più ascoltati in Francia\, Spagna\, Belgio\, Svizzera e Austria.\nNel corso degli anni\, è stato protagonista in Italia di concerti memorabili\, in grado di richiamare migliaia di persone che con lui condividono la musica e gli ideali.\nCome in occasione dei concerti a Santa Sofia delle scorse edizioni del festival\, anche questo spettacolo si terrà in orario tardo pomeridiano: un’occasione per vivere una giornata fuori porta immersa nella natura. \n► PROGRAMMA\nOre 16:00 | Apertura venue con angolo ristoro funzionante\nOre 17.00 | Concerti di apertura con TÄRA e Lucky Salvadori\nOre 19.30 | MANU CHAO \n► INFO E PARCHEGGI\nL’area del concerto si raggiunge a piedi (1\,5km su strada piana) partendo dalla rotatoria di Via Martiri della Libertà fino alla località Brusatopa\, luogo dell’evento.\nParcheggi consigliati: CONSULTA LA MAPPA! \nPiazza Karl Marx\, Via Bertini\, Piazza Mortani\, parcheggio coperto via D. Alighieri\, Viale Roma\, Via L. Greggi (parcheggio del Vallino)\nPer chi accompagna una persona disabile: la persona con disabilità viene accompagnata fino al luogo del concerto in località Brusatopa\, dopo averlo comunicato all’organizzazione (info@acieloaperto.it)\, poi l’automezzo può essere posteggiato nel parcheggio di Via Campoisola\, località Colonia.\nOspitalità e accoglienza: Ufficio Turistico di Santa Sofia: 0543 974551 / 0543 970249\, mail turismo@comune.santa-sofia.fc.it
URL:https://www.retropoplive.it/eventi/manu-chao-ultra-acoustic-acieloaperto-festival/
LOCATION:Parco Fluviale Santa Sofia\, via San Martino\, Santa Sofia\, FC\, 47018\, Italia
CATEGORIES:In evidenza,Musica
ATTACH;FMTTYPE=image/jpeg:https://www.retropoplive.it/wp-content/uploads/2025/06/500681266_1296129289188664_5409755356389340479_n.jpg
ORGANIZER;CN="RetroPop Live":MAILTO:retropoplive@gmail.com
END:VEVENT
BEGIN:VEVENT
DTSTART;TZID=Europe/Paris:20250709T190000
DTEND;TZID=Europe/Paris:20250709T233000
DTSTAMP:20260420T221626
CREATED:20250127T170252Z
LAST-MODIFIED:20250319T152821Z
UID:2015-1752087600-1752103800@www.retropoplive.it
SUMMARY:MEUTE | acieloaperto festival
DESCRIPTION:Dal 2016\, i Meute rompono i codici e ridefiniscono i confini fra gli ambiti musicali. La techno marching band tedesca combina il carattere ipnotico della techno music con l’esuberanza espressiva della brass band\, liberando la musica elettronica dalla consolle del dj e rinnovando l’immagine delle bande musicali.\nIconiche divise rosse\, bassi potenti\, ottoni\, xilofoni e grancasse sono i segni distintivi del collettivo nato come un esperimento fra le strade del distretto St Pauli ad Amburgo\, e in pochi anni diventato un fenomeno globale aprendo la strada a collaborazioni con artisti come Laurent Garnier\, Stephan Bodzin\, Flume\, Solomun e Marc Rebillet. \nIl loro album di debutto\, Tumult (2017)\, ha messo in luce il loro approccio innovativo\, includendo reinterpretazioni di brani di artisti come Âme e Trentemøller. Nel 2020\, con Puls\, MEUTE ha ampliato il proprio repertorio\, proponendo nuove versioni di pezzi iconici come “You & Me” di Disclosure. Nel 2022 hanno pubblicato Taumel\, un lavoro che li ha definitivamente consacrati\, esplorando sonorità più complesse e raffinate. Con Empor (2024)\, la brass band alza ulteriormente l’asticella della sperimentazione sonora e della popolarità globale.\nCon le loro vivaci uniformi rosse\, i Meute sono riusciti a diffondere l’amore per la loro elettronica artigianale in tutta Europa\, diventando una live band nota per gli show adrenalinici e memorabili.
URL:https://www.retropoplive.it/eventi/meute-acieloaperto-festival/
LOCATION:Rocca Malatestiana Cesena\, Via Cia degli Ordelaffi\, 8\, Cesena\, Forli - Cesena\, 47521\, Italia
CATEGORIES:In evidenza,Musica
ATTACH;FMTTYPE=image/jpeg:https://www.retropoplive.it/wp-content/uploads/2025/01/rpl_meute_cesena_acieloaperto.jpg
ORGANIZER;CN="RetroPop Live":MAILTO:retropoplive@gmail.com
END:VEVENT
BEGIN:VEVENT
DTSTART;TZID=Europe/Paris:20250628T183000
DTEND;TZID=Europe/Paris:20250629T000000
DTSTAMP:20260420T221626
CREATED:20250605T191809Z
LAST-MODIFIED:20250605T192043Z
UID:2161-1751135400-1751155200@www.retropoplive.it
SUMMARY:Il Rock è Tratto / Offlaga Disco Pax\, Tonino3000
DESCRIPTION:Nato nel 1996 a Savignano sul Rubicone\, Il Rock è Tratto è un concorso per artisti emergenti provenienti da tutta Italia\, e una grande festa di piazza che avvicina giovani realtà musicali a grandi artisti affermati.\nSabato 28 giugno in piazza Borghesi si esibiranno gli Offlaga Disco Pax\, Tonino3000\, la band vincitrice del contest 2025\, e la serata si concluderà con il djset della Falafel Fazz Familia. \nOFFLAGA DISCO PAX\, Palco Il Rock è Tratto\nIn occasione dei vent’anni dalla pubblicazione del primo disco “Socialismo tascabile (prove tecniche di trasmissione)” Max Collini e Daniele Carretti hanno deciso di riformare il gruppo per celebrare il disco d’esordio con un tour. Li accompagnerà sul palco Mattia Ferrarini\, polistrumentista di Reggio Emilia\, che ha maturato diverse esperienze con alcuni dei gruppi musicali più significativi della loro città e che è stato scelto in virtù della sua sensibilità artistica\, molto affine a quella degli ODP.\nIl trio si caratterizza per le sonorità che uniscono l’elettronica analogica a basso e chitarre accompagnate da testi in italiano declamati anziché cantati in modo classico; narrazioni spesso autobiografiche dall’ambientazione identitaria\, sia dal punto di vista territoriale che ideologico. \nTONINO3000\, Palco Savignano Sound\nFondatore del collettivo Falafel Fazz Familia\, Tonino3000 rimescola brandelli di brani africani per comporre inni disperati e mantra incoraggianti. Figlio di un futuro che non si è mai realizzato\, porta in giro il suo spettacolo armato solo di microfono\, computer e tastiera laser. \nTutti gli eventi sono a ingresso libero. \nL’evento è promosso dal Comune di Savignano sul Rubicone\, e sostenuto da Romagna Banca Credito Cooperativo. Tra gli altri\, sul palco de Il Rock è tratto\, si sono esibiti gli Afterhours\, Elio e le storie tese\, I tre allegri ragazzi morti\, Calcutta\, Le luci della centrale elettrica\, i Diaframma\, Cristina Donà\, Bombino.
URL:https://www.retropoplive.it/eventi/offlaga-disco-pax-ingresso-libero/
LOCATION:Piazza Borghesi\, Savignano sul Rubicone\, Piazza Borghesi\, Savignano sul Rubicone\, FC\, 47039\, Italia
CATEGORIES:In evidenza,Musica
ATTACH;FMTTYPE=image/jpeg:https://www.retropoplive.it/wp-content/uploads/2025/06/500994063_1285636110228500_6323852886844520983_n.jpg
ORGANIZER;CN="RetroPop Live":MAILTO:retropoplive@gmail.com
END:VEVENT
BEGIN:VEVENT
DTSTART;TZID=Europe/Paris:20250607T210000
DTEND;TZID=Europe/Paris:20250607T233000
DTSTAMP:20260420T221626
CREATED:20250605T191020Z
LAST-MODIFIED:20250605T191052Z
UID:2155-1749330000-1749339000@www.retropoplive.it
SUMMARY:Il Rock è Tratto / Contest live
DESCRIPTION:Nato nel 1996 a Savignano sul Rubicone\, Il Rock è Tratto è un concorso per artisti emergenti provenienti da tutta Italia\, e una grande festa di piazza che avvicina giovani realtà musicali a grandi artisti affermati.\nSabato 7 giugno in piazza Giovanni XXIII si esibiranno le tre band finaliste dell’edizione 2025: Asianoia\, Not My Value\, Spicy Knots. A decretare la band vincitrice del contest\, una giuria composta da tre musicisti: Antonio Ramberti (Duo Bucolico\, Slavi Bravissime Persone\, Poesie Porne)\, Barbara Suzzi (Collettivo Collimare\, iBellanotte\, Io e la Tigre)\, Tonino 3000.\nLa band vincitrice si esibirà sabato 28 giugno in piazza Borghesi in apertura del concerto degli Offlaga Disco Pax e Tonino3000\, e otterrà un premio di 1000 euro a sostegno della propria attività e crescita artistica. \nASIANOIA\, Ravenna\nValerio Runa Mordenti (voce e chitarra)\, Leonardo Viviani (chitarra)\, Silvio Pece (basso)\, Mattia Mingarini (Batteria).\nTra post post punk e canzone italiana\, gli Asianoia sono un gruppo della provincia di Ravenna. Il loro Ep di debutto è il self-titled “asianoia”\, pubblicato l’1 novembre 2022. Attualmente stanno lavorando al primo disco. \nNOT MY VALUE\, Milano\nClaudio Brambilla (basso\, chitarra elettrica\, synth\, pedal effect\, vox dub\, producer)\, Lisa Marchiani (voce\, synth)\nUn robottino\, due musicisti\, tre atti. Coppia nella vita come nell’arte\, i Not My Value sono un duo dark trip-hop psichedelico con base a Milano. La loro musica è un equilibrio precario tra echi inquietanti e atmosfere oniriche che si mischiano creando capovolgimenti sonori. Traggono ispirazione dal cinema\, dalla filosofia\, dalla letteratura\, con una particolare affinità per l’universo di David Lynch. \nSPICY KNOTS\, Rimini\nNiccolò Leone (chitarra\, voce)\, Alberto Bartoli (basso\, cori)\, Andrea D’Angeli (batteria)\nAutunno 2018. Rimini. Una spiaggia desolata. È lì che si incontrano per la prima volta Nic\, Andre e Abo\, dando vita agli Spicy knots. La loro storia comincia sottoterra\, tra demo arrangiati alla bell’e meglio e live negli scantinati. Sono spinti dai suoni grezzi del punk e dalla rabbia del grunge\, e presto si creano un modesto seguito nella zona del riminese. Nel 2022 iniziano a registrare brani con un sound più elaborato grazie a Simone Sartini\, che cura le produzioni della band. Nascono così Elizabeth e Aritmia\, brani che virano verso un’attitudine più pop\, ma dall’anima sempre graffiante ed energica. Dopo questo cambio di direzione\, tra il 2022 e il 2024 registrano le restanti tracce di quello che diventerà il loro primo album: Astoria. \nTutti gli eventi sono a ingresso libero. \nL’evento è promosso dal Comune di Savignano sul Rubicone\, e sostenuto da Romagna Banca Credito Cooperativo. Tra gli altri\, sul palco de Il Rock è tratto\, si sono esibiti gli Afterhours\, Elio e le storie tese\, I tre allegri ragazzi morti\, Calcutta\, Le luci della centrale elettrica\, i Diaframma\, Cristina Donà\, Bombino.
URL:https://www.retropoplive.it/eventi/il-rock-e-tratto-contest-live/
LOCATION:Piazza Giovanni XXIII\, Savignano sul Rubicone\, Piazza Papa Giovanni XXIII\, Savignano sul Rubicone\, FC\, 47039\, Italia
CATEGORIES:In evidenza,Musica
ATTACH;FMTTYPE=image/jpeg:https://www.retropoplive.it/wp-content/uploads/2025/06/502698112_1289852703140174_5991326802813958814_n.jpg
ORGANIZER;CN="RetroPop Live":MAILTO:retropoplive@gmail.com
END:VEVENT
BEGIN:VEVENT
DTSTART;TZID=Europe/Paris:20250227T210000
DTEND;TZID=Europe/Paris:20250227T230000
DTSTAMP:20260420T221626
CREATED:20240805T105933Z
LAST-MODIFIED:20240805T110210Z
UID:1936-1740690000-1740697200@www.retropoplive.it
SUMMARY:Elio - Quando un musicista ride
DESCRIPTION:Giocare e ridere con la musica e le canzoni. \nImpresa facile per Elio e la sua band di giovanissimi virtuosi che dopo il grande successo “Ci vuole orecchio”\, si divertono ora ad esplorare e reinventare quell’immenso territorio seriamente comico ai confini tra canto e disincanto che\, soprattutto intorno agli anni 60\, ha percorso la musica\, la canzone\, il cabaret ed il teatro italiano.
URL:https://www.retropoplive.it/eventi/elio-quando-un-musicista-ride/
LOCATION:Teatro Alessandro Bonci\, Piazza Mario Guidazzi 8\, Cesena FC\, 47521\, Italia
CATEGORIES:In evidenza,Musica,Teatro
ATTACH;FMTTYPE=image/jpeg:https://www.retropoplive.it/wp-content/uploads/2024/08/elio-bonci-cesena.jpg
ORGANIZER;CN="RetroPop Live":MAILTO:retropoplive@gmail.com
END:VEVENT
BEGIN:VEVENT
DTSTART;TZID=Europe/Paris:20241208T210000
DTEND;TZID=Europe/Paris:20241208T230000
DTSTAMP:20260420T221626
CREATED:20240805T101559Z
LAST-MODIFIED:20240805T101559Z
UID:1932-1733691600-1733698800@www.retropoplive.it
SUMMARY:Massimo Lopez e Tullio Solenghi - Dove Eravamo Rimasti
DESCRIPTION:La sensazione più esaltante dell’ultimo spettacolo di Massimo Lopez e Tullio Solenghi è stata quella di avere di fronte un pubblico empatico e festoso\, una sorta di famiglia allargata. \nEcco perché hanno voluto ripartire battezzando il nuovo spettacolo con il titolo Dove Eravamo Rimasti. \nNe scaturisce una scoppiettante carrellata di voci\, imitazioni\, sketch\, performance musicali\, improvvisazioni ed interazioni col pubblico. In quasi due ore di spettacolo\, si offrono alla platea con l’empatia spassosa ed emozionale del loro inconfondibile “marchio di fabbrica”.
URL:https://www.retropoplive.it/eventi/massimo-lopez-e-tullio-solenghi-dove-eravamo-rimasti/
LOCATION:Teatro Nuovo San Marino\, Piazza M. Tini\, 5\, Dogana\, 47891\, San Marino
CATEGORIES:In evidenza,Teatro
ATTACH;FMTTYPE=image/jpeg:https://www.retropoplive.it/wp-content/uploads/2024/08/lopez-solenghi-teatro-dogana-sanmarino.jpg
ORGANIZER;CN="RetroPop Live":MAILTO:retropoplive@gmail.com
END:VEVENT
BEGIN:VEVENT
DTSTART;TZID=UTC:20240811T183000
DTEND;TZID=UTC:20240811T233000
DTSTAMP:20260420T221626
CREATED:20240208T123513Z
LAST-MODIFIED:20240311T124555Z
UID:1580-1723401000-1723419000@www.retropoplive.it
SUMMARY:acieloaperto | Explosions in the Sky
DESCRIPTION:Proprio quello delle colonne sonore\, lo sappiamo\, è un universo caro e congeniale agli Explosions In The Sky\,\nche negli anni hanno dimostrato di trovarvisi alla perfezione. \nAnche “End“\, in fondo\, è una colonna sonora\, anche se certamente in senso più ampio: il settimo album in studio della band texana non accompagna un prodotto cinematografico\, ma riflette sul concetto di fine\, sia esso inteso come fine di un’esistenza\, di un rapporto\, di un’avventura. \n  \n 
URL:https://www.retropoplive.it/eventi/explosions-in-the-sky/
LOCATION:Rocca Malatestiana Cesena\, Via Cia degli Ordelaffi\, 8\, Cesena\, Forli - Cesena\, 47521\, Italia
CATEGORIES:In evidenza,Musica
ATTACH;FMTTYPE=image/jpeg:https://www.retropoplive.it/wp-content/uploads/2024/02/retropoplive_explosions-inthesky_acieloaperto.jpeg
ORGANIZER;CN="RetroPop Live":MAILTO:retropoplive@gmail.com
END:VEVENT
BEGIN:VEVENT
DTSTART;TZID=Europe/Paris:20240807T210000
DTEND;TZID=Europe/Paris:20240807T210000
DTSTAMP:20260420T221626
CREATED:20240311T033856Z
LAST-MODIFIED:20240523T153548Z
UID:1873-1723064400-1723064400@www.retropoplive.it
SUMMARY:Sogliano Sonica | Xavier Rudd
DESCRIPTION:Xavier Rudd è un cantautore e polistrumentista australiano con cittadinanza canadese acquisita\, di genere folk. Xavier Rudd è un one-man band ed è solito suonare circondato da svariati strumenti musicali ordinati in maniera complicata: tre didgerodoo su di un supporto dinnanzi a sé\, una chitarra sulle sue gambe\, uno stompbox ai suoi piedi e vicino\, pronti all’uso\, tutta una serie di bassi\, banjo\, armoniche e tamburi. Molte delle canzoni di Rudd vertono su temi socialmente impegnati\, quali l’ambientalismo e i diritti degli aborigeni\, che spesso prestano le proprie voci nei suoi brani. Ha sviluppato una solida reputazione in seguito a diversi spettacoli dal vivo\, festival musicali e a numerosi concerti in Australia e Nord America dove il suo seguito è più numeroso. \nXavier Rudd ha da poco annunciato l’uscita dell’EP Freedom Sessions prevista per il 29 marzo. Il nuovo lavoro è preceduto dalla pubblicazione del primo singolo in due parti\, World Order.
URL:https://www.retropoplive.it/eventi/sogliano-sonica-xavier-rudd/
LOCATION:Piazza Matteotti\, Piazza Matteotti\, Sogliano al Rubicone\, FC\, 24122\, Italia
CATEGORIES:In evidenza,Musica
ATTACH;FMTTYPE=image/jpeg:https://www.retropoplive.it/wp-content/uploads/2024/03/xavier-rudd-sogliano-sonica.jpg
ORGANIZER;CN="RetroPop Live":MAILTO:retropoplive@gmail.com
END:VEVENT
BEGIN:VEVENT
DTSTART;TZID=UTC:20240430T210000
DTEND;TZID=UTC:20240501T030000
DTSTAMP:20260420T221626
CREATED:20240208T125117Z
LAST-MODIFIED:20240311T124216Z
UID:1586-1714510800-1714532400@www.retropoplive.it
SUMMARY:Cosmo
DESCRIPTION:Cosmo porterà sul palco\, accompagnato da una band di quattro elementi\,\nil materiale inedito che andrà a comporre il suo nuovo album\, il quinto. \nUn vero e proprio rito pagano che ha nei club il suo santuario. \n  \n  \n  \nCosmo porterà sul palco\, accompagnato da una band di quattro elementi
URL:https://www.retropoplive.it/eventi/cosmo/
LOCATION:Teatro Verdi\, Via Luigi Sostegni\, 13\, Cesena\, Forlì-Cesena\, 47521\, Italia
CATEGORIES:In evidenza,Musica
ATTACH;FMTTYPE=image/jpeg:https://www.retropoplive.it/wp-content/uploads/2024/02/retropoplive_cosmo_teatro-verdi_cesena.jpeg
ORGANIZER;CN="RetroPop Live":MAILTO:retropoplive@gmail.com
END:VEVENT
BEGIN:VEVENT
DTSTART;TZID=UTC:20240417T200000
DTEND;TZID=UTC:20240417T200000
DTSTAMP:20260420T221626
CREATED:20240208T132143Z
LAST-MODIFIED:20240311T124348Z
UID:1594-1713384000-1713384000@www.retropoplive.it
SUMMARY:Baustelle
DESCRIPTION:Sarà l’occasione per vestire di abiti nuovi le canzoni di oggi e quelle di ieri.\nSarà come amarsi in un locale al buio. \nCome baciarsi sul velluto o ballare un lento sulla moquette.\nSarà elettrico e confidenziale\, nightclub e confessionale.\nIntimo\, bagnato e scuro. \nVenite\, perché solo atti impuri saranno\, unici e irripetibili. \n  \nVenite\, perché solo atti impuri saranno\, unici e irripetibili.
URL:https://www.retropoplive.it/eventi/baustelle/
LOCATION:Teatro Alessandro Bonci\, Piazza Mario Guidazzi 8\, Cesena FC\, 47521\, Italia
CATEGORIES:In evidenza,Musica
ATTACH;FMTTYPE=image/jpeg:https://www.retropoplive.it/wp-content/uploads/2024/02/retropoplive_baustelle_teatro-bonci.jpeg
ORGANIZER;CN="RetroPop Live":MAILTO:retropoplive@gmail.com
END:VEVENT
BEGIN:VEVENT
DTSTART;TZID=UTC:20240310T210000
DTEND;TZID=UTC:20240310T210000
DTSTAMP:20260420T221626
CREATED:20240208T095859Z
LAST-MODIFIED:20240311T124256Z
UID:1571-1710104400-1710104400@www.retropoplive.it
SUMMARY:Any Other
DESCRIPTION:Any Other è il progetto principale di Adele Altro\, polistrumentista e produttrice con base a Milano\, già attiva da parecchi anni nella scena musicale italiana e internazionale. Due dischi e due ep alle spalle\, con i suoi lavori ha contribuito a (ri)portare l’indie-rock sotto i riflettori\, oltre ad aver suonato in Europa e non solo.\nÈ salita sui palchi di alcuni dei festival internazionali più importanti\, dal Primavera Sound di Barcellona al The Great Escape Festival di Brighton\, passando per il Reeperbahn Festival di Amburgo e il Eurosonic Noorderslaag di Groningen\, oltre ad aver suonato nel Sud Est Asiatico e in Giappone. Il suo terzo disco\, “stillness\, stop: you have a right to remember”\, è stato pubblicato il 26 gennaio 2024 per 42records. \nIl suo terzo disco\, “stillness\, stop: you have a right to remember”\, è stato pubblicato il 26 gennaio 2024 per 42records.
URL:https://www.retropoplive.it/eventi/any-other/
LOCATION:Spazio Marte\, Teatro2\, Cesena\, Via Silvio Corbari\, 175\,\, Cesena FC\, 47521\, Italia
CATEGORIES:In evidenza,Musica
ATTACH;FMTTYPE=image/jpeg:https://www.retropoplive.it/wp-content/uploads/2024/02/retropoplive_any-other_spazio-marte.jpg
ORGANIZER;CN="RetroPop Live":MAILTO:retropoplive@gmail.com
END:VEVENT
BEGIN:VEVENT
DTSTART;TZID=UTC:20240215T200000
DTEND;TZID=UTC:20240215T230000
DTSTAMP:20260420T221627
CREATED:20240130T085538Z
LAST-MODIFIED:20240208T171804Z
UID:308-1708027200-1708038000@www.retropoplive.it
SUMMARY:Massimo Lopez & Tullio Solenghi in “Dove Eravamo Rimasti”
DESCRIPTION:La sensazione più esaltante dell’ultimo spettacolo di Massimo Lopez e Tullio Solenghi è stata quella di avere di fronte un pubblico empatico e festoso\, una sorta di famiglia allargata. Ecco perché hanno voluto ripartire da quello spettacolo\, battezzando il nuovo Dove eravamo rimasti\nQuesto nuovo spettacolo proporrà numeri. sketch\, brani musicali\, contributi video\, con alcuni picchi di comicità come una lectio magistralis di Sgarbi/Lopez\, un affettuoso omaggio all’avanspettacolo\, inseriti nella nostra ormai collaudata dimensione dello show. Il filo conduttore sarà quello di una chiacchierata tra amici\, la famiglia allargata di cui sopra\, che collegherà i vari momenti di spettacolo. La band del maestro Gabriele Comeglio accompagnerà ancora una volta lo spettacolo\, irrinunciabile “spalla” della cornice musicale.
URL:https://www.retropoplive.it/eventi/massimo-lopez-tullio-solenghi-cesena/
LOCATION:Teatro Alessandro Bonci\, Piazza Mario Guidazzi 8\, Cesena FC\, 47521\, Italia
CATEGORIES:In evidenza,Teatro
ATTACH;FMTTYPE=image/jpeg:https://www.retropoplive.it/wp-content/uploads/2017/06/retropoplive_lopez-solenghi_cesena.jpeg
ORGANIZER;CN="RetroPop Live":MAILTO:retropoplive@gmail.com
END:VEVENT
END:VCALENDAR